BEGIN:VCALENDAR
VERSION:2.0
PRODID:-//Long Beach City College Foundation - ECPv6.15.20//NONSGML v1.0//EN
CALSCALE:GREGORIAN
METHOD:PUBLISH
X-ORIGINAL-URL:https://lbccfoundation.org
X-WR-CALDESC:Events for Long Beach City College Foundation
REFRESH-INTERVAL;VALUE=DURATION:PT1H
X-Robots-Tag:noindex
X-PUBLISHED-TTL:PT1H
BEGIN:VTIMEZONE
TZID:America/Los_Angeles
BEGIN:DAYLIGHT
TZOFFSETFROM:-0800
TZOFFSETTO:-0700
TZNAME:PDT
DTSTART:20250309T100000
END:DAYLIGHT
BEGIN:STANDARD
TZOFFSETFROM:-0700
TZOFFSETTO:-0800
TZNAME:PST
DTSTART:20251102T090000
END:STANDARD
BEGIN:DAYLIGHT
TZOFFSETFROM:-0800
TZOFFSETTO:-0700
TZNAME:PDT
DTSTART:20260308T100000
END:DAYLIGHT
BEGIN:STANDARD
TZOFFSETFROM:-0700
TZOFFSETTO:-0800
TZNAME:PST
DTSTART:20261101T090000
END:STANDARD
BEGIN:DAYLIGHT
TZOFFSETFROM:-0800
TZOFFSETTO:-0700
TZNAME:PDT
DTSTART:20270314T100000
END:DAYLIGHT
BEGIN:STANDARD
TZOFFSETFROM:-0700
TZOFFSETTO:-0800
TZNAME:PST
DTSTART:20271107T090000
END:STANDARD
END:VTIMEZONE
BEGIN:VEVENT
DTSTART;TZID=America/Los_Angeles:20260225T110000
DTEND;TZID=America/Los_Angeles:20260225T120000
DTSTAMP:20260419T220200
CREATED:20260210T195648Z
LAST-MODIFIED:20260210T202415Z
UID:4679-1772017200-1772020800@lbccfoundation.org
SUMMARY:Building MM Ribbon Cutting
DESCRIPTION:You’re invited to the Ribbon-Cutting of the MM Building at LBCC!\nExplore the latest update to the Trades\, Technology\, & Community Learning Campus (TTC). Building MM is designed to support our amazing Trades and Applied Technologies programs.\n\n\n Wed.\, Feb. 25\, 2026\n 11:00 a.m.\n MM Building\, TTC\, 1305 E. Pacific Coast Highway\, Long Beach\, CA 90806\n Join us as we mark this exciting new chapter.\n RSVP HERE
URL:https://lbccfoundation.org/event/building-mm-ribbon-cutting/
END:VEVENT
BEGIN:VEVENT
DTSTART;TZID=America/Los_Angeles:20260326T123000
DTEND;TZID=America/Los_Angeles:20260326T133000
DTSTAMP:20260419T220201
CREATED:20260218T171444Z
LAST-MODIFIED:20260218T171444Z
UID:4712-1774528200-1774531800@lbccfoundation.org
SUMMARY:Building G Ribbon Cutting
DESCRIPTION:Faculty\, staff\, students and the community are invited to attend the Ribbon-Cutting Ceremony of LAC’s Building G at 12:30 p.m.\, on Thurs.\, March 26. Guests will learn about the new building. For information\, email cbolton@lbcc.edu
URL:https://lbccfoundation.org/event/building-g-ribbon-cutting/
END:VEVENT
BEGIN:VEVENT
DTSTART;TZID=America/Los_Angeles:20260326T170000
DTEND;TZID=America/Los_Angeles:20260326T210000
DTSTAMP:20260419T220201
CREATED:20250707T223540Z
LAST-MODIFIED:20260106T172054Z
UID:3550-1774544400-1774558800@lbccfoundation.org
SUMMARY:Hall of Champions 2026
DESCRIPTION:Since winning its first state title in 1928\, the Long Beach City College Athletic Department continues to amass conference\, state\, and national titles. Our athletes play in the most demanding leagues in Southern California and have captured more state titles than any other community college in California. \nLong Beach City College is recognized throughout California as both an academic and athletic leader. Thousands of LBCC athletes have received scholarships from nearly every university in the nation. We point with pride to these athletes. \nAthletics is an important part of the total college experience. The athletic event provides students an opportunity to develop valuable skills such as teamwork\, self-discipline\, problem-solving\, and leadership that can be useful in everyday life situations. \nThe purpose of the Hall of Champions is to recognize individuals and teams who have developed these skills and contributed to the outstanding accomplishments of the LBCC Athletic Program. \nFormer student-athletes\, championship teams\, coaches\, and others who have contributed significantly to Viking athletics will be eligible for a place in the Hall of Champions. A selection committee will review those nominated and an induction banquet will be held yearly to celebrate the achievements of those selected. \nLBCC has always had outstanding coaches\, many whom have moved on to university and professional teams. Together\, students and staff have made the program unparalleled in community college athletics. \nThe athletic department embraces every student\, from the one who “just wants to play\,” to the one who has all the desire\, dedication\, and talent to become an All-American or Olympian.
URL:https://lbccfoundation.org/event/hall-of-champions-2025/
END:VEVENT
BEGIN:VEVENT
DTSTART;TZID=America/Los_Angeles:20260519T110000
DTEND;TZID=America/Los_Angeles:20260519T133000
DTSTAMP:20260419T220201
CREATED:20250610T231905Z
LAST-MODIFIED:20250610T231905Z
UID:3441-1779188400-1779197400@lbccfoundation.org
SUMMARY:Outstanding Senior of the Year 2026
DESCRIPTION:The Outstanding Senior of the Year was started by Mary Thoits in 1980 to recognize older adults for their contributions and accomplishments. Under the auspice of the Long Beach City College Foundation\, the Lifetime Learning Center provides programs for older adults\, keeping them engaged mentally\, physically\, and socially.
URL:https://lbccfoundation.org/event/outstanding-senior-of-the-year-2026/
END:VEVENT
BEGIN:VEVENT
DTSTART;TZID=America/Los_Angeles:20260521T120000
DTEND;TZID=America/Los_Angeles:20260521T200000
DTSTAMP:20260419T220201
CREATED:20250610T232638Z
LAST-MODIFIED:20250610T232841Z
UID:3444-1779364800-1779393600@lbccfoundation.org
SUMMARY:Annual LBCC Athletic Golf Tournament
DESCRIPTION:THE 41st ANNUAL LBCC ATHLETICS GOLF TOURNAMENT \nFOR MORE INFORMATION PLEASE CONTACT: Gina Mascaro\, gmascaro@lbcc.edu or (562) 938-4778 \nLong Beach City College and the Long Beach City College Foundation will sponsor its Annual Golf Tournament as a major fundraiser for Long Beach City College Athletics. We are planning and looking forward to a great day of golf\, food & beverage\, friends\, and community support. \nA portion of all proceeds will directly support the LBCC Athletic Endowment. \nDate: Thursday\, May 21st\, 2026 \nLunch……………………………………. 12:00 PM \nShotgun Start………………………….. 1:00 PM \nDinner & Awards………………………. TBD \nSkylinks Golf Course\n4800 E Wardlow Rd\, Long Beach\, CA 90808
URL:https://lbccfoundation.org/event/annual-lbcc-athletic-golf-tournament/
END:VEVENT
END:VCALENDAR